BEGIN:VCALENDAR
VERSION:2.0
PRODID:-//London School of Photography
CALSCALE:GREGORIAN
METHOD:PUBLISH
X-WR-CALNAME:London School of Photography
X-ORIGINAL-URL:https://londonschoolofphotography.com/product/studio-lighting/
X-WR-CALDESC:Studio Lighting
BEGIN:VEVENT
DTSTART;TZID=Europe/Paris:20220905T103000
DTEND;TZID=Europe/Paris:20220909T163000
SUMMARY:Studio Lighting
DESCRIPTION:STUDIO LIGHTING WORKSHOP (Level Required: INTERMEDIATE or a Good Knowledge of the Digital Photography Level 1 &amp; 2 Syllabus) Mon. Tues. Thu. Fri. , 10:30 to 16:30 PLEASE CLICK HERE TO SEE THE WORKSHOP DETAILS
URL:https://londonschoolofphotography.com/product/studio-lighting/
LOCATION:London School of Photography - The Shoreditch Academy of Image Making, Back Building, 148 – 150 Curtain Road, London, EC2A 3AT
END:VEVENT
END:VCALENDAR
